BEGIN:VCALENDAR
VERSION:2.0
PRODID:-//IFoA//Life Conference//EN
BEGIN:VEVENT
UID:ifoa-lifeconf-2026@example.com
DTSTAMP:2026009T084313Z
DTSTART;VALUE=DATE:20261118
DTEND;VALUE=DATE:20261120
SUMMARY:IFoA Life Conference 2026
DESCRIPTION:Join us for the IFoA Life Conference 2026 in Birmingham.
LOCATION:Birmingham
END:VEVENT
END:VCALENDAR
