BEGIN:VCALENDAR
VERSION:2.0
PRODID:-//IFoA//GIRO 2026//EN
BEGIN:VEVENT
UID:ifoa-giro-2026@example.com
DTSTAMP:20260409T084313Z
DTSTART;VALUE=DATE:20261125
DTEND;VALUE=DATE:20261127
SUMMARY:GIRO 2026
DESCRIPTION:Join us for GIRO 2026 in Edinburgh, UK.
LOCATION:Edinburgh, UK
END:VEVENT
END:VCALENDAR
