BEGIN:VCALENDAR
VERSION:2.0
PRODID:-//IFoA//Asia Conference 2026//EN
BEGIN:VEVENT
UID:ifoa-asiaconf-2025@example.com
DTSTAMP:20260409T084313Z
DTSTART;VALUE=DATE:20261001
DTEND;VALUE=DATE:20261003
SUMMARY:IFoA Asia Conference 2026
DESCRIPTION:Join us for the IFoA Asia Conference 2026 in Kuala Lumpur, Malaysia.
LOCATION:Kuala Lumpur, Malaysia
END:VEVENT
END:VCALENDAR
